BEGIN:VCALENDAR
PRODID:-//AT Content Types//AT Event//EN
VERSION:2.0
METHOD:PUBLISH
BEGIN:VEVENT
DTSTAMP:20260421T102519Z
CREATED:20250608T171545Z
UID:ATEvent-89bee61646db4b999abfc6d6d0eeda2e
LAST-MODIFIED:20250618T115219Z
SUMMARY:L’Évangile à la lumière de l’art
DTSTART:20250705T073000Z
DTEND:20250705T160000Z
DESCRIPTION:"Non plus un esclave\, mais un frère bien-aimé ". Ce ver
 set de l'épitre de saint Paul à Philémon sera le fil rouge de la jo
 urnée.
LOCATION:Chapelle Notre-Dame du Haut à Ronchamp
CLASS:PUBLIC
END:VEVENT
END:VCALENDAR
