BEGIN:VCALENDAR
PRODID:-//AT Content Types//AT Event//EN
VERSION:2.0
METHOD:PUBLISH
BEGIN:VEVENT
DTSTAMP:20260419T163500Z
CREATED:20250608T190242Z
UID:ATEvent-55a58fb6a0de47d0b38d55eedd843b95
LAST-MODIFIED:20250608T190301Z
SUMMARY:L’Évangile à la lumière de l’art
DTSTART:20251031T150000Z
DTEND:20251102T130000Z
DESCRIPTION:"Ce qu’il y a de fou\, de méprisé\, voilà ce que Dieu
  a choisi" Ce verset de la lettre de saint Paul aux Corinthiens sera l
 e thème de ce temps spirituel
LOCATION:Chapelle Notre-Dame du Haut à Ronchamp
CLASS:PUBLIC
END:VEVENT
END:VCALENDAR
