BEGIN:VCALENDAR
PRODID:-//AT Content Types//AT Event//EN
VERSION:2.0
METHOD:PUBLISH
BEGIN:VEVENT
DTSTAMP:20260424T114648Z
CREATED:20250608T172345Z
UID:ATEvent-7c9ea162ae9a46dca3f2b3a72934611b
LAST-MODIFIED:20250618T115406Z
SUMMARY:L’Évangile à la lumière de l’art
DTSTART:20250719T073000Z
DTEND:20250719T160000Z
DESCRIPTION:"Venez à l’écart\, et reposez-vous un peu" Ce verset d
 e l'Evangile de Saint Marc est le thème de la journée.
LOCATION:Chapelle Notre-Dame du Haut à Ronchamp
CLASS:PUBLIC
END:VEVENT
END:VCALENDAR
