BEGIN:VCALENDAR
PRODID:-//AT Content Types//AT Event//EN
VERSION:2.0
METHOD:PUBLISH
BEGIN:VEVENT
DTSTAMP:20260421T213125Z
CREATED:20250923T124157Z
UID:ATEvent-213bbe1eb6b6402fa8a526e17457901d
LAST-MODIFIED:20250923T125028Z
SUMMARY:Journée à la Roche d'Or
DTSTART:20251011T070000Z
DTEND:20251011T153000Z
DESCRIPTION:En cette période de rentrée\, la communauté de la Roche
  d'or a la joie de vous inviter à une nouvelle "Journée Temps Fort"\
 , le samedi 11 octobre 2025 animée par le père Olivier Sournia\, acc
 essible à tous.
LOCATION:Foyer la Roche d'Or\, 1 chemin du Muenot\, 25000 Besançon
CLASS:PUBLIC
END:VEVENT
END:VCALENDAR
