BEGIN:VCALENDAR
PRODID:-//AT Content Types//AT Event//EN
VERSION:2.0
METHOD:PUBLISH
BEGIN:VEVENT
DTSTAMP:20260422T165854Z
CREATED:20251118T193110Z
UID:ATEvent-9ecb31d121eb43e4bd8d1e9fd329aab1
LAST-MODIFIED:20251118T193137Z
SUMMARY:Journée internationale des personnes handicapées.
DTSTART:20251206T130000Z
DTEND:20251206T130000Z
LOCATION:Centre diocésain  à Besançon
CONTACT:Dominique BARCON\, 06 43 34 61 77\, pastosantepph@diocese-besancon.fr
CLASS:PUBLIC
END:VEVENT
END:VCALENDAR
