BEGIN:VCALENDAR
PRODID:-//AT Content Types//AT Event//EN
VERSION:2.0
METHOD:PUBLISH
BEGIN:VEVENT
DTSTAMP:20260422T100450Z
CREATED:20250831T045400Z
UID:ATEvent-8c06760d74f24b70848bc322b3b2c47c
LAST-MODIFIED:20250906T045512Z
SUMMARY:Inauguration de la nouvelle paroisse Saint Colomban
DTSTART:20250928T070000Z
DTEND:20250928T100000Z
LOCATION:Cité paroissiale et basilique de Luxeuil
CLASS:PUBLIC
END:VEVENT
END:VCALENDAR
