BEGIN:VCALENDAR
PRODID:-//AT Content Types//AT Event//EN
VERSION:1.0
BEGIN:VEVENT
DTSTART:20260310T190000Z
DTEND:20260310T210000Z
DCREATED:20260112T154021Z
UID:ATEvent-fcbe852e406446ffa50e2002276c8fcb
SEQUENCE:0
LAST-MODIFIED:20260305T155230Z
SUMMARY:Formation ThéoFil Bible 1
DESCRIPTION:Vous pouvez encore vous inscrire\, il reste des places !
LOCATION:La Familiale à Saint Loup
PRIORITY:3
TRANSP:0
END:VEVENT
END:VCALENDAR
