BEGIN:VCALENDAR
PRODID:-//AT Content Types//AT Event//EN
VERSION:2.0
METHOD:PUBLISH
BEGIN:VEVENT
DTSTAMP:20260422T060603Z
CREATED:20250912T145742Z
UID:ATEvent-001289e495cc4d79a7a4e38eafb3bd23
LAST-MODIFIED:20251029T155938Z
SUMMARY:Fête de Saint Colomban
DTSTART:20251123T090000Z
DTEND:20251123T090000Z
DESCRIPTION:À l’occasion de la fête patronale de Saint Colomban\, 
 le 23 novembre\, nous vous invitons chaleureusement à participer à l
 a messe célébrée à 10h à la basilique de Luxeuil en présence de 
 notre archevêque\, suivie d’une procession et de la consécration d
 e l’ensemble scolaire à la Vierge Marie. \nUn repas convivial vous 
 attend ensuite\, à la cité paroissiale. Venez nombreux partager ce m
 oment de fête et de fraternité et réservez dès à présent votre r
 epas !
LOCATION:Basilique et collège Luxeuil
CLASS:PUBLIC
END:VEVENT
END:VCALENDAR
