BEGIN:VCALENDAR
PRODID:-//AT Content Types//AT Event//EN
VERSION:1.0
BEGIN:VEVENT
DTSTART:20260228T080000Z
DTEND:20260228T110000Z
DCREATED:20260204T052859Z
UID:ATEvent-9052915f8d714252880312258a35c0ff
SEQUENCE:0
LAST-MODIFIED:20260206T202107Z
SUMMARY:Eglise et l'argent\, parlons en
LOCATION:Cité paroissiale de Luxeuil
PRIORITY:3
TRANSP:0
END:VEVENT
END:VCALENDAR
