BEGIN:VCALENDAR
PRODID:-//AT Content Types//AT Event//EN
VERSION:2.0
METHOD:PUBLISH
BEGIN:VEVENT
DTSTAMP:20260422T014948Z
CREATED:20251005T084105Z
UID:ATEvent-94a651b00828415ca47217ada0b35185
LAST-MODIFIED:20251006T144717Z
SUMMARY:Dimanche ensemble
DTSTART:20251214T080000Z
DTEND:20251214T110000Z
LOCATION:Cité paroissiale et basilique de Luxeuil
CLASS:PUBLIC
END:VEVENT
END:VCALENDAR
