BEGIN:VCALENDAR
PRODID:-//AT Content Types//AT Event//EN
VERSION:2.0
METHOD:PUBLISH
BEGIN:VEVENT
DTSTAMP:20260421T105228Z
CREATED:20251005T084726Z
UID:ATEvent-bac3b933d1f147cd99b6cf30323e20af
LAST-MODIFIED:20251006T144923Z
SUMMARY:Dimanche ensemble
DTSTART:20260628T070000Z
DTEND:20260628T100000Z
LOCATION:Saint Loup
CLASS:PUBLIC
END:VEVENT
END:VCALENDAR
