BEGIN:VCALENDAR
PRODID:-//AT Content Types//AT Event//EN
VERSION:2.0
METHOD:PUBLISH
BEGIN:VEVENT
DTSTAMP:20260422T091047Z
CREATED:20251005T084436Z
UID:ATEvent-c3d3a6b6ef9c42ba9608a91e79961bfa
LAST-MODIFIED:20260421T094945Z
SUMMARY:Deuxième Dimanche Ensemble
DTSTART:20260426T070000Z
DTEND:20260426T100000Z
DESCRIPTION:Vous êtes tous invités à vivre ensemble ce deuxième 
 Dimanche Ensemble” : un moment simple\, joyeux et fraternel où tou
 tes les générations se retrouvent\, se rencontrent et partagent. Cet
  événement fait partie d'un des cinq chantiers missionnaires\, et ch
 acun y a toute sa place et est le bienvenu.
LOCATION:Raddon
CLASS:PUBLIC
END:VEVENT
END:VCALENDAR
