BEGIN:VCALENDAR
PRODID:-//AT Content Types//AT Event//EN
VERSION:2.0
METHOD:PUBLISH
BEGIN:VEVENT
DTSTAMP:20260422T033541Z
CREATED:20250912T145112Z
UID:ATEvent-48d60463d5f7423798967ffbdc406078
LAST-MODIFIED:20251107T191430Z
SUMMARY:Confirmation
DTSTART:20251130T090000Z
DTEND:20251130T090000Z
DESCRIPTION:Quatorze jeunes de la paroisse recevront le sacrement de l
 a confirmation lors de la messe célébrée par Mgr Bouilleret à la b
 asilique.
LOCATION:Basilique de Luxeuil
CLASS:PUBLIC
END:VEVENT
END:VCALENDAR
