BEGIN:VCALENDAR
PRODID:-//AT Content Types//AT Event//EN
VERSION:2.0
METHOD:PUBLISH
BEGIN:VEVENT
DTSTAMP:20260420T133731Z
CREATED:20250224T103907Z
UID:ATEvent-02f3e50bb2e54e5180588cf17588fd8f
LAST-MODIFIED:20250224T104043Z
SUMMARY:Concert organisé par l'association des Amis de l'Orgue
DTSTART:20250823T150000Z
DTEND:20250823T150000Z
DESCRIPTION:Il s'agit d'un concert "chant et orgue" avec Anne-Charlott
 e Béligné (mezzo-soprano) et Jeremy Marchal (orgue).
LOCATION:Basilique de Luxeuil
CLASS:PUBLIC
END:VEVENT
END:VCALENDAR
