BEGIN:VCALENDAR
PRODID:-//AT Content Types//AT Event//EN
VERSION:2.0
METHOD:PUBLISH
BEGIN:VEVENT
DTSTAMP:20260422T080800Z
CREATED:20250211T172119Z
UID:ATEvent-c2ddf37a6c554c67b34524e54ba85e3c
LAST-MODIFIED:20250211T172142Z
SUMMARY:Concert organisé par l'association des Amis de l'Orgue de Luxeuil-les-Bains
DTSTART:20250920T150000Z
DTEND:20250920T150000Z
DESCRIPTION:Concert trompette et orgue avec Jean-Jacques Darriet (trom
 pette) et Christian Robischon (orgue)
LOCATION:Basilique de Luxeuil
CLASS:PUBLIC
END:VEVENT
END:VCALENDAR
