BEGIN:VCALENDAR
PRODID:-//AT Content Types//AT Event//EN
VERSION:1.0
BEGIN:VEVENT
DTSTART:20250815T150000Z
DTEND:20250815T150000Z
DCREATED:20250211T171745Z
UID:ATEvent-9c749a8c3a6c47898b856f211f7aef9b
SEQUENCE:0
LAST-MODIFIED:20250805T162016Z
SUMMARY:Concert organisé par l'association Contre Vent
DESCRIPTION:Concert par l'Ensemble de cuivres et percussions “Escapa
 de” (concert en partenariat avec les Amis de l'Orgue)
LOCATION:Basilique de Luxeuil
PRIORITY:3
TRANSP:0
END:VEVENT
END:VCALENDAR
