BEGIN:VCALENDAR
PRODID:-//AT Content Types//AT Event//EN
VERSION:2.0
METHOD:PUBLISH
BEGIN:VEVENT
DTSTAMP:20260421T233234Z
CREATED:20250211T171453Z
UID:ATEvent-fadaa8321c21454fb691c764e7190f51
LAST-MODIFIED:20250623T143718Z
SUMMARY:Concert organisé par l'association des Amis de l'Orgue de Luxeuil les Bains
DTSTART:20250713T150000Z
DTEND:20250713T150000Z
DESCRIPTION:Concert 2 sacqueboutes et orgue avec Claire-Ombeline Muhlm
 eyer\, Vincent Santagiuliana (sacqueboutes) et Benoît Chrétien (orgu
 e)
LOCATION:Basilique de Luxeuil
CLASS:PUBLIC
END:VEVENT
END:VCALENDAR
