BEGIN:VCALENDAR
PRODID:-//AT Content Types//AT Event//EN
VERSION:1.0
BEGIN:VEVENT
DTSTART:20251213T190000Z
DTEND:20251213T190000Z
DCREATED:20250930T171353Z
UID:ATEvent-6de1c4348b7d418ca3d32ad33971a380
SEQUENCE:0
LAST-MODIFIED:20251108T153837Z
SUMMARY:Concert Glorious
DESCRIPTION:Les deux groupes emblématiques de la louange chrétienne 
 francophone\, Glorious et Exo\, s’unissent pour un concert exception
 nel à l'Axone de Montbéliard le samedi 13 décembre à 20 h.\nCe con
 cert pop associé à une veillée de prière festive touche un large p
 ublic\, très familial\, qu’il soit pratiquant régulier ou occasion
 nel.
LOCATION:L'Axone - Montbéliard
PRIORITY:3
TRANSP:0
END:VEVENT
END:VCALENDAR
