BEGIN:VCALENDAR
PRODID:-//AT Content Types//AT Event//EN
VERSION:2.0
METHOD:PUBLISH
BEGIN:VEVENT
DTSTAMP:20260424T100139Z
CREATED:20260419T165341Z
UID:ATEvent-9a0199ee062a42b6a06d2afeef703b69
LAST-MODIFIED:20260419T165404Z
SUMMARY:Concert d'orgue
DTSTART:20260502T150000Z
DTEND:20260502T150000Z
DESCRIPTION:Ce premier concert est proposé par l'association des Amis
  de l'Orgue dans la cadre de la 5e saison des Samedis de l'Orgue.
LOCATION:Basilique de Luxeuil
CLASS:PUBLIC
END:VEVENT
END:VCALENDAR
