BEGIN:VCALENDAR
PRODID:-//AT Content Types//AT Event//EN
VERSION:1.0
BEGIN:VEVENT
DTSTART:20251104T170000Z
DTEND:20251104T170000Z
DCREATED:20250912T145317Z
UID:ATEvent-20eadc1e87b94cd3a74d2e07bf34aefa
SEQUENCE:0
LAST-MODIFIED:20251023T084109Z
SUMMARY:Célébration à l'Ecclésia
DESCRIPTION:La municipalité et la paroisse de Luxeuil-les-Bains vous 
 convient à une célébration ouverte à tous\, en mémoire des défun
 ts inconnus du site de l’Ecclesia. C'est une première à Luxeuil\, 
 venez nombreux !
LOCATION:Luxeuil - Ecclesia
PRIORITY:3
TRANSP:0
END:VEVENT
END:VCALENDAR
