BEGIN:VCALENDAR
PRODID:-//AT Content Types//AT Event//EN
VERSION:2.0
METHOD:PUBLISH
BEGIN:VEVENT
DTSTAMP:20260422T000552Z
CREATED:20260222T063507Z
UID:ATEvent-eccb9815c552497b834b47d468f961a3
LAST-MODIFIED:20260222T063540Z
SUMMARY:Carlo Acutis exposition - conférence
DTSTART:20260530T163000Z
DTEND:20260530T163000Z
LOCATION:Basilique de Luxeuil
CLASS:PUBLIC
END:VEVENT
END:VCALENDAR
