BEGIN:VCALENDAR
PRODID:-//AT Content Types//AT Event//EN
VERSION:2.0
METHOD:PUBLISH
BEGIN:VEVENT
DTSTAMP:20260421T155847Z
CREATED:20260421T085011Z
UID:ATEvent-87ff13547d2649a08103a2dfd07304d4
LAST-MODIFIED:20260421T085026Z
SUMMARY:Bénédiction du pain
DTSTART:20260510T120000Z
DTEND:20260510T120000Z
DESCRIPTION:Lors de la Fête du Pain organisée à Luxeuil\, un temps 
 de bénédiction du pain sera prévu à 14h. Vous êtes les bienvenus 
 !
LOCATION:Cour de la cité paroissiale
CLASS:PUBLIC
END:VEVENT
END:VCALENDAR
