BEGIN:VCALENDAR
PRODID:-//AT Content Types//AT Event//EN
VERSION:2.0
METHOD:PUBLISH
BEGIN:VEVENT
DTSTAMP:20260421T003121Z
CREATED:20250903T044820Z
UID:ATEvent-3d947ab55bfc4035a4beef1eb8b231eb
LAST-MODIFIED:20250903T044831Z
SUMMARY:BÃ©nÃ©diction du coq du clocher
DTSTART:20251004T080000Z
DTEND:20251004T080000Z
DESCRIPTION:Pour marquer la fin des travaux rÃ©alisÃ©s dans l'Ã©glise 
 de La Chapelle les Luxeuil\, une cÃ©lÃ©bration aura lieu avec la bÃ©nÃ
 ©diction du coq du clocher.
LOCATION:Eglise de la Chapelle les Luxeuil
CLASS:PUBLIC
END:VEVENT
END:VCALENDAR
