BEGIN:VCALENDAR
PRODID:-//AT Content Types//AT Event//EN
VERSION:2.0
METHOD:PUBLISH
BEGIN:VEVENT
DTSTAMP:20260422T053400Z
CREATED:20260419T170657Z
UID:ATEvent-6f1c70e717ed465d86e53cfd8a982198
LAST-MODIFIED:20260419T171454Z
SUMMARY:BÃ©nÃ©diction des eaux thermales
DTSTART:20260514T120000Z
DTEND:20260514T120000Z
DESCRIPTION:Cette annÃ©e la bÃ©nÃ©diction des eaux thermales de Luxeui
 l les Bains aura lieu le jeudi de l'Ascension \, le 14 mai Ã  14h.\nBÃ
 ©nir les eaux nâ€™est pas un geste magique qui confÃ©rerait Ã  ces eau
 x des pouvoirs qu'elle ne possÃ©derait pas naturellement. BÃ©nir les e
 aux c'est dire merci au crÃ©ateur pour ce don de l'eau\, ses bienfaits
 \, ses vertus curatives.
LOCATION:Etablissement thermal de Luxeuil
CLASS:PUBLIC
END:VEVENT
END:VCALENDAR
