BEGIN:VCALENDAR
PRODID:-//AT Content Types//AT Event//EN
VERSION:1.0
BEGIN:VEVENT
DTSTART:20251220T130000Z
DTEND:20251220T160000Z
DCREATED:20251118T191424Z
UID:ATEvent-b499956beb5644df91d52f538058be37
SEQUENCE:0
LAST-MODIFIED:20251118T200826Z
SUMMARY:Ateliers de Noël
DESCRIPTION:Rejoignez les ateliers créatifs de la paroisse Saint Colo
 mban pour partager vos talents\, créer du lien intergénérationnel e
 t vivre ensemble de beaux moments de convivialité !
LOCATION:Salle paroissiale de Sainte Marie en Chanois
PRIORITY:3
TRANSP:0
END:VEVENT
END:VCALENDAR
