BEGIN:VCALENDAR
PRODID:-//AT Content Types//AT Event//EN
VERSION:1.0
BEGIN:VEVENT
DTSTART:20260317T190000Z
DTEND:20260317T203000Z
DCREATED:20260204T054150Z
UID:ATEvent-1094f5955cc34b199929cb87f7c7dd33
SEQUENCE:0
LAST-MODIFIED:20260204T054243Z
SUMMARY:Assemblée de prière
DESCRIPTION:Tous les premiers et troisièmes mardis du mois\, un temps
  de louange\, d'écoute et de méditation de la Parole de Dieu\, d'int
 ercession vous est proposé.
LOCATION:Cité paroissiale de Luxeuil\, 1 rue du Sergent Bonnot
PRIORITY:3
TRANSP:0
END:VEVENT
END:VCALENDAR
