BEGIN:VCALENDAR
PRODID:-//AT Content Types//AT Event//EN
VERSION:1.0
BEGIN:VEVENT
DTSTART:20260519T180000Z
DTEND:20260519T193000Z
DCREATED:20260418T162101Z
UID:ATEvent-00d9a8d6f43e49d2b8ae5f3d47a1cf97
SEQUENCE:0
LAST-MODIFIED:20260418T162116Z
SUMMARY:Assemblée de prière
DESCRIPTION:Tous les premiers et troisièmes mardis du mois\, un temps
  de louange\, d'écoute et de méditation de la Parole de Dieu\, d'int
 ercession vous est proposé.
LOCATION:Cité paroissiale de Luxeuil
PRIORITY:3
TRANSP:0
END:VEVENT
END:VCALENDAR
