BEGIN:VCALENDAR
PRODID:-//AT Content Types//AT Event//EN
VERSION:2.0
METHOD:PUBLISH
BEGIN:VEVENT
DTSTAMP:20260422T105937Z
CREATED:20260228T062753Z
UID:ATEvent-fa2be5384e894259b9e3252dd637f163
LAST-MODIFIED:20260228T062805Z
SUMMARY:Assemblée de prière
DTSTART:20260407T180000Z
DTEND:20260407T193000Z
DESCRIPTION:Tous les premiers et troisièmes mardis du mois\, un temps
  de louange\, d'écoute et de méditation de la Parole de Dieu\, d'int
 ercession vous est proposé.
LOCATION:Cité paroissiale de Luxeuil
CONTACT:Agnès\, 06 95 45 35 02
CLASS:PUBLIC
END:VEVENT
END:VCALENDAR
