BEGIN:VCALENDAR
PRODID:-//AT Content Types//AT Event//EN
VERSION:1.0
BEGIN:VEVENT
DTSTART:20260606T080000Z
DTEND:20260606T093000Z
DCREATED:20260129T163815Z
UID:ATEvent-80386ae96a9f46dc83b56361f82f2a11
SEQUENCE:0
LAST-MODIFIED:20260129T163833Z
SUMMARY:Assemblée de paroissiens
DESCRIPTION:C'est l'occasion de s'exprimer pour les paroissiens.
LOCATION:Cité paroissiale de Luxeuil
PRIORITY:3
TRANSP:0
END:VEVENT
END:VCALENDAR
