BEGIN:VCALENDAR
PRODID:-//AT Content Types//AT Event//EN
VERSION:1.0
BEGIN:VEVENT
DTSTART:20260407T220000Z
DTEND:20260411T220000Z
DCREATED:20260305T124316Z
UID:ATEvent-ae3c77464f094a8ca0c55f505e414f0d
SEQUENCE:0
LAST-MODIFIED:20260305T125800Z
SUMMARY:Rassemblement des jeunes à Taizé
DESCRIPTION:Un groupe de jeunes de notre paroisse va partir avec ceux 
 du diocèse de Besançon pour un long week-end avec les frères et les
  jeunes de la communauté de Taizé. Il est encore temps de s'inscrire
  !
LOCATION:Taizé en Saône et Loire (71)
PRIORITY:3
TRANSP:0
END:VEVENT
END:VCALENDAR
