BEGIN:VCALENDAR
PRODID:-//AT Content Types//AT Event//EN
VERSION:1.0
BEGIN:VEVENT
DTSTART:20260328T090000Z
DTEND:20260328T110000Z
DCREATED:20260301T110525Z
UID:ATEvent-8f88921941a44d7e91bfb6cbca927694
SEQUENCE:0
LAST-MODIFIED:20260325T180041Z
SUMMARY:Samedi 28 mars - De 10h00 à 12h00 - GY et VELLEXON - Confessions
LOCATION:GY et VELLEXON
PRIORITY:3
TRANSP:0
END:VEVENT
END:VCALENDAR
