BEGIN:VCALENDAR
PRODID:-//AT Content Types//AT Event//EN
VERSION:2.0
METHOD:PUBLISH
BEGIN:VEVENT
DTSTAMP:20260420T124500Z
CREATED:20260301T105716Z
UID:ATEvent-374916cbb0ad4fb9aaad9f056c9f9453
LAST-MODIFIED:20260321T171523Z
SUMMARY:Mardi 24 mars - 11h00 - BASILIQUE - Messe
DTSTART:20260324T100000Z
DTEND:20260324T100000Z
CLASS:PUBLIC
END:VEVENT
END:VCALENDAR
