BEGIN:VCALENDAR
PRODID:-//AT Content Types//AT Event//EN
VERSION:2.0
METHOD:PUBLISH
BEGIN:VEVENT
DTSTAMP:20260420T121313Z
CREATED:20250905T090442Z
UID:ATEvent-5443dd03f33f491589c294c75d9c71ef
LAST-MODIFIED:20250908T102612Z
SUMMARY:Dimanche 7 septembre : 10h30 - Culte avec accueil - Temple du Saint Esprit Besançon
DTSTART:20250907T083000Z
DTEND:20250907T083000Z
DESCRIPTION:Le groupe oecuménique de Gray vous informe
LOCATION:Temple du Saint-Esprit - 5 Rue Claude Goudimel\, 25000 Besançon
CLASS:PUBLIC
END:VEVENT
END:VCALENDAR
