BEGIN:VCALENDAR
PRODID:-//AT Content Types//AT Event//EN
VERSION:1.0
BEGIN:VEVENT
DTSTART:20230707T190000Z
DTEND:20230707T200000Z
DCREATED:20230629T085627Z
UID:ATEvent-8009e4c64b06483fa90829f2b22370bf
SEQUENCE:0
LAST-MODIFIED:20230629T085638Z
SUMMARY:Visite de la basilique à la lampe torche
LOCATION:Basilique de Gray
PRIORITY:3
TRANSP:0
END:VEVENT
END:VCALENDAR
