BEGIN:VCALENDAR
PRODID:-//AT Content Types//AT Event//EN
VERSION:2.0
METHOD:PUBLISH
BEGIN:VEVENT
DTSTAMP:20260419T132532Z
CREATED:20231117T170045Z
UID:ATEvent-4c02a91e325c4d1b836417e336721ab2
LAST-MODIFIED:20231117T170058Z
SUMMARY:Veillée de Noël à 19h à Arc-lès-Gray
DTSTART:20231224T180000Z
DTEND:20231224T190000Z
LOCATION:Eglise d'Arc-lès-Gray
CLASS:PUBLIC
END:VEVENT
END:VCALENDAR
