BEGIN:VCALENDAR
PRODID:-//AT Content Types//AT Event//EN
VERSION:2.0
METHOD:PUBLISH
BEGIN:VEVENT
DTSTAMP:20260422T132400Z
CREATED:20210208T154743Z
UID:ATEvent-c34c9d64017e480ab03bcdbb2ca94bcf
LAST-MODIFIED:20210208T154810Z
SUMMARY:ThéoFIL Croire : Troisième séance
DTSTART:20210409T180000Z
DTEND:20210409T200000Z
DESCRIPTION:Formation dispensée en distanciel
LOCATION:Sur ZOOM
CONTACT:Benoît Striby\, 06 44 24 95 55
CLASS:PUBLIC
END:VEVENT
END:VCALENDAR
