BEGIN:VCALENDAR
PRODID:-//AT Content Types//AT Event//EN
VERSION:1.0
BEGIN:VEVENT
DTSTART:20210521T180000Z
DTEND:20210521T200000Z
DCREATED:20210208T155356Z
UID:ATEvent-a3262b92e3b74f7ca462b22f6c75c2c3
SEQUENCE:0
LAST-MODIFIED:20210208T155404Z
SUMMARY:ThéoFIL Croire : Cinquième séance
DESCRIPTION:Formation dispensée en distanciel
LOCATION:Sur ZOOM
PRIORITY:3
TRANSP:0
END:VEVENT
END:VCALENDAR
