BEGIN:VCALENDAR
PRODID:-//AT Content Types//AT Event//EN
VERSION:2.0
METHOD:PUBLISH
BEGIN:VEVENT
DTSTAMP:20260419T151027Z
CREATED:20210409T145749Z
UID:ATEvent-ef790c07e1f34027b3240aa109db9bf4
LAST-MODIFIED:20210425T124053Z
SUMMARY:Terres d'espérance en visio
DTSTART:20210424T074500Z
DTEND:20210424T100000Z
LOCATION:Sur ZOOM
CLASS:PUBLIC
END:VEVENT
END:VCALENDAR
