BEGIN:VCALENDAR
PRODID:-//AT Content Types//AT Event//EN
VERSION:1.0
BEGIN:VEVENT
DTSTART:20230905T070000Z
DTEND:20230905T074500Z
DCREATED:20230629T084947Z
UID:ATEvent-d7c2b703fa934430ac66ed326375c280
SEQUENCE:0
LAST-MODIFIED:20230828T082642Z
SUMMARY:Temps de prière et de partage animé par le groupe "Chrétiens en mouvement" à 9h à Apremont
LOCATION:Eglise d'Apremont
PRIORITY:3
TRANSP:0
END:VEVENT
END:VCALENDAR
