BEGIN:VCALENDAR
PRODID:-//AT Content Types//AT Event//EN
VERSION:1.0
BEGIN:VEVENT
DTSTART:20221022T160000Z
DTEND:20221022T170000Z
DCREATED:20221013T082719Z
UID:ATEvent-06c850510f0d44d0ab7d26e4015027cb
SEQUENCE:0
LAST-MODIFIED:20221030T151016Z
SUMMARY:St Renobert à Poyans à 18h avec bénédiction des céréales
LOCATION:Poyans
PRIORITY:3
TRANSP:0
END:VEVENT
END:VCALENDAR
