BEGIN:VCALENDAR
PRODID:-//AT Content Types//AT Event//EN
VERSION:1.0
BEGIN:VEVENT
DTSTART:20240208T193000Z
DTEND:20240208T210000Z
DCREATED:20240127T164719Z
UID:ATEvent-1ecbf16c1866444d9ff204c59bda2971
SEQUENCE:0
LAST-MODIFIED:20240127T164844Z
SUMMARY:Spectacle "M. le curé fait sa crise" à Besançon
LOCATION:Eglise St Louis \, 28 avenue de Montrapon\, 25000 Besançon
PRIORITY:3
TRANSP:0
END:VEVENT
END:VCALENDAR
