BEGIN:VCALENDAR
PRODID:-//AT Content Types//AT Event//EN
VERSION:2.0
METHOD:PUBLISH
BEGIN:VEVENT
DTSTAMP:20260421T134611Z
CREATED:20230222T091346Z
UID:ATEvent-5d926ac710a1482d9b61f807da008d99
LAST-MODIFIED:20230316T172732Z
SUMMARY:Soirée CCFD à Dampierre sur Salon
DTSTART:20230323T180000Z
DTEND:20230323T210000Z
LOCATION:Dampierre sur Salon
CONTACT:Marie-Noëlle et Benoît Striby\, 06 44 24 95 55
CLASS:PUBLIC
END:VEVENT
END:VCALENDAR
