BEGIN:VCALENDAR
PRODID:-//AT Content Types//AT Event//EN
VERSION:1.0
BEGIN:VEVENT
DTSTART:20210403T140000Z
DTEND:20210403T160000Z
DCREATED:20210327T162306Z
UID:ATEvent-30ecd2377e4d45d78350bae02ff73f91
SEQUENCE:0
LAST-MODIFIED:20210401T073731Z
SUMMARY:Samedi Saint   Célébration pascale à 16h à Autrey-lès-Gray
LOCATION:Autrey-lès-Gray
PRIORITY:3
TRANSP:0
END:VEVENT
END:VCALENDAR
