BEGIN:VCALENDAR
PRODID:-//AT Content Types//AT Event//EN
VERSION:2.0
METHOD:PUBLISH
BEGIN:VEVENT
DTSTAMP:20260422T021125Z
CREATED:20211003T151932Z
UID:ATEvent-e2b6c4eb4e6745d2b09b3f8579565362
LAST-MODIFIED:20211003T151940Z
SUMMARY:Réunion de l'équipe "Bonne Nouvelle en Val de Saône"
DTSTART:20211004T180000Z
DTEND:20211004T200000Z
LOCATION:Salle Notre Dame à Gray
CONTACT:Benoît Striby\, 06 44 24 95 55
CLASS:PUBLIC
END:VEVENT
END:VCALENDAR
