BEGIN:VCALENDAR
PRODID:-//AT Content Types//AT Event//EN
VERSION:2.0
METHOD:PUBLISH
BEGIN:VEVENT
DTSTAMP:20260422T112806Z
CREATED:20220813T132502Z
UID:ATEvent-dc6f0cb9a2994106acb22a36c957494a
LAST-MODIFIED:20220813T132515Z
SUMMARY:Répétition pour le concert de Noël avec les enfants du caté
DTSTART:20220820T120000Z
DTEND:20220820T130000Z
LOCATION:Presbytère d'Arc-lès-Gray
CLASS:PUBLIC
END:VEVENT
END:VCALENDAR
