BEGIN:VCALENDAR
PRODID:-//AT Content Types//AT Event//EN
VERSION:1.0
BEGIN:VEVENT
DTSTART:20220929T160000Z
DTEND:20220929T170000Z
DCREATED:20220918T134341Z
UID:ATEvent-a1bb2749d6e14f47beb31ce595c864df
SEQUENCE:0
LAST-MODIFIED:20220918T134351Z
SUMMARY:Répétition de la chorale à 18h à Arc-lès-Gray
LOCATION:Arc-lès-Gray
PRIORITY:3
TRANSP:0
END:VEVENT
END:VCALENDAR
