BEGIN:VCALENDAR
PRODID:-//AT Content Types//AT Event//EN
VERSION:1.0
BEGIN:VEVENT
DTSTART:20200310T190000Z
DTEND:20200310T203000Z
DCREATED:20200308T161320Z
UID:ATEvent-4bced4d66d1b4602a0fa9b35ac9270cc
SEQUENCE:0
LAST-MODIFIED:20200308T161328Z
SUMMARY:Rencontre oecuménique
LOCATION:Chapelle de l'Amitié\, avenue des Capucins\, Gray
PRIORITY:3
TRANSP:0
END:VEVENT
END:VCALENDAR
