BEGIN:VCALENDAR
PRODID:-//AT Content Types//AT Event//EN
VERSION:2.0
METHOD:PUBLISH
BEGIN:VEVENT
DTSTAMP:20260421T153630Z
CREATED:20240113T180713Z
UID:ATEvent-5665537e89174ca9b4c856d4a39f7ff2
LAST-MODIFIED:20240113T180727Z
SUMMARY:Rencontre oecuménique à 18h à Gray
DTSTART:20240116T170000Z
DTEND:20240116T183000Z
LOCATION:Chapelle de l'Amitié\, 30\, avenue des Capucins\, Gray
CLASS:PUBLIC
END:VEVENT
END:VCALENDAR
