BEGIN:VCALENDAR
PRODID:-//AT Content Types//AT Event//EN
VERSION:2.0
METHOD:PUBLISH
BEGIN:VEVENT
DTSTAMP:20260422T053505Z
CREATED:20230827T143151Z
UID:ATEvent-e22fef023ed240838cb1e793cabfb1f1
LAST-MODIFIED:20230827T143212Z
SUMMARY:Rencontre des 3 ECP à 20h
DTSTART:20230831T180000Z
DTEND:20230831T200000Z
LOCATION:Presbytère de Gray
CONTACT:Benoît Striby\, délégué pastoral\, 06 44 24 95 55
CLASS:PUBLIC
END:VEVENT
END:VCALENDAR
