BEGIN:VCALENDAR
PRODID:-//AT Content Types//AT Event//EN
VERSION:2.0
METHOD:PUBLISH
BEGIN:VEVENT
DTSTAMP:20260421T124141Z
CREATED:20220227T203015Z
UID:ATEvent-68d98e5c8adb4380917ae69ec5029cb2
LAST-MODIFIED:20220227T203051Z
SUMMARY:Rencontre de l'ECP à Chargey-lès-Gray
DTSTART:20220301T183000Z
DTEND:20220301T203000Z
LOCATION:Chez Aline Maréchal à Chargey-lès-Gray
CONTACT:Benoît Striby\, 06 44 24 95 55
CLASS:PUBLIC
END:VEVENT
END:VCALENDAR
